BEGIN:VCALENDAR
VERSION:2.0
PRODID:-//Tahoe Events Calendar - ECPv6.12.0.1//NONSGML v1.0//EN
CALSCALE:GREGORIAN
METHOD:PUBLISH
X-WR-CALNAME:Tahoe Events Calendar
X-ORIGINAL-URL:https://www.tahoeeventscalendar.com
X-WR-CALDESC:Events for Tahoe Events Calendar
REFRESH-INTERVAL;VALUE=DURATION:PT1H
X-Robots-Tag:noindex
X-PUBLISHED-TTL:PT1H
BEGIN:VTIMEZONE
TZID:America/Los_Angeles
BEGIN:DAYLIGHT
TZOFFSETFROM:-0800
TZOFFSETTO:-0700
TZNAME:PDT
DTSTART:20260308T100000
END:DAYLIGHT
BEGIN:STANDARD
TZOFFSETFROM:-0700
TZOFFSETTO:-0800
TZNAME:PST
DTSTART:20261101T090000
END:STANDARD
END:VTIMEZONE
BEGIN:VEVENT
DTSTART;TZID=America/Los_Angeles:20260621T130000
DTEND;TZID=America/Los_Angeles:20260621T160000
DTSTAMP:20260425T080234
CREATED:20260320T195142Z
LAST-MODIFIED:20260320T195201Z
UID:9652-1782046800-1782057600@www.tahoeeventscalendar.com
SUMMARY:Wine on the Water
DESCRIPTION:Join us for Wine on the Water\, a chill in-person event where you can sip amazing wines while enjoying awesome waterfront vibes. \nIt’s the perfect chance to unwind\, meet new people\, and soak up the scenery. Whether you’re a wine newbie or a connoisseur\, this event’s all about good times\, great drinks\, and relaxing by the water while supporting the Boys & Girls Club of North Lake Tahoe. \nDon’t miss out on a fantastic day filled with laughs and lovely wines!
URL:https://www.tahoeeventscalendar.com/event/wine-on-the-water/
LOCATION:North Tahoe Event Center\, 8318 N Lake Blvd\, Kings Beach\, 96143\, United States
CATEGORIES:Food & Drink,Fundraiser,Live Music
ATTACH;FMTTYPE=image/png:https://www.tahoeeventscalendar.com/wp-content/uploads/2026/03/Screenshot-2026-03-20-at-12.49.17-PM-e1774036286433.png
ORGANIZER;CN="Boys &amp%3B Girls Club of North Lake Tahoe":MAILTO:mflaming@bgcnlt.org
END:VEVENT
END:VCALENDAR